BEGIN:VCALENDAR
VERSION:2.0
PRODID:-//North Wellington Junior Football Club - ECPv4.6.10.1//NONSGML v1.0//EN
CALSCALE:GREGORIAN
METHOD:PUBLISH
X-WR-CALNAME:North Wellington Junior Football Club
X-ORIGINAL-URL:https://nwjfc.nz
X-WR-CALDESC:Events for North Wellington Junior Football Club
BEGIN:VEVENT
DTSTART;VALUE=DATE:20180723
DTEND;VALUE=DATE:20180725
DTSTAMP:20181221T112919
CREATED:20180410T235146Z
LAST-MODIFIED:20180410T235146Z
UID:424-1532304000-1532476799@nwjfc.nz
SUMMARY:Team Photographs
DESCRIPTION:Team photographs will occur on the evenings of 23 July and 24 July at the North Wellington Football clubrooms. \n
URL:https://nwjfc.nz/event/team-photographs/
CATEGORIES:Season Events
END:VEVENT
END:VCALENDAR